BEGIN:VCALENDAR
VERSION:2.0
PRODID:-//www.frauenkappelen.ch//NONSGML kigkonsult.se iCalcreator 2.22//
CALSCALE:GREGORIAN
METHOD:PUBLISH
X-WR-TIMEZONE','EUROPE/BERLIN:
BEGIN:VEVENT
UID:20260422T222608CEST-31911vNeu7@www.frauenkappelen.ch
DTSTAMP:20260422T202608Z
DESCRIPTION:Klicken Sie auf den folgenden Link\, um weitere Informationen z
 ur Veranstaltung zu erhalten:\nhttp://www.frauenkappelen.ch/de/veranstaltu
 ngen/detail/detail.php?i=135
DTSTART:20260519T190000
DTEND:20260519T000000
LOCATION:Dorfladen
SUMMARY:Buchlesung
END:VEVENT
END:VCALENDAR
